BEGIN:VCALENDAR
VERSION:2.0
PRODID:-//Gospel Echoes Team Prison Ministry - ECPv6.15.20//NONSGML v1.0//EN
CALSCALE:GREGORIAN
METHOD:PUBLISH
X-WR-CALNAME:Gospel Echoes Team Prison Ministry
X-ORIGINAL-URL:https://gospelechoes.com
X-WR-CALDESC:Events for Gospel Echoes Team Prison Ministry
REFRESH-INTERVAL;VALUE=DURATION:PT1H
X-Robots-Tag:noindex
X-PUBLISHED-TTL:PT1H
BEGIN:VTIMEZONE
TZID:America/Indiana/Indianapolis
BEGIN:DAYLIGHT
TZOFFSETFROM:-0500
TZOFFSETTO:-0400
TZNAME:EDT
DTSTART:20250309T070000
END:DAYLIGHT
BEGIN:STANDARD
TZOFFSETFROM:-0400
TZOFFSETTO:-0500
TZNAME:EST
DTSTART:20251102T060000
END:STANDARD
BEGIN:DAYLIGHT
TZOFFSETFROM:-0500
TZOFFSETTO:-0400
TZNAME:EDT
DTSTART:20260308T070000
END:DAYLIGHT
BEGIN:STANDARD
TZOFFSETFROM:-0400
TZOFFSETTO:-0500
TZNAME:EST
DTSTART:20261101T060000
END:STANDARD
BEGIN:DAYLIGHT
TZOFFSETFROM:-0500
TZOFFSETTO:-0400
TZNAME:EDT
DTSTART:20270314T070000
END:DAYLIGHT
BEGIN:STANDARD
TZOFFSETFROM:-0400
TZOFFSETTO:-0500
TZNAME:EST
DTSTART:20271107T060000
END:STANDARD
END:VTIMEZONE
BEGIN:VEVENT
DTSTART;VALUE=DATE:20260115
DTEND;VALUE=DATE:20260116
DTSTAMP:20260420T054618
CREATED:20260107T134205Z
LAST-MODIFIED:20260107T134205Z
UID:10000682-1768435200-1768521599@gospelechoes.com
SUMMARY:Avon Park Corr. Inst. - MRT
DESCRIPTION:
URL:https://gospelechoes.com/event/avon-park-corr-inst-mrt-3/
LOCATION:Avon Park Corr. Inst.\, Avon Park\, FL\, United States
CATEGORIES:Headquarters,Mercy Road
GEO:27.5958672;-81.5061862
END:VEVENT
BEGIN:VEVENT
DTSTART;VALUE=DATE:20260115
DTEND;VALUE=DATE:20260116
DTSTAMP:20260420T054618
CREATED:20260107T134256Z
LAST-MODIFIED:20260107T134256Z
UID:10000683-1768435200-1768521599@gospelechoes.com
SUMMARY:Dade Corr. Inst. - HT
DESCRIPTION:
URL:https://gospelechoes.com/event/dade-corr-inst-ht/
LOCATION:Dade Corr. Inst.\, Homestead\, FL\, United States
CATEGORIES:Harvest,Headquarters
GEO:25.4687224;-80.4775569
X-APPLE-STRUCTURED-LOCATION;VALUE=URI;X-ADDRESS=Dade Corr. Inst. Homestead FL United States;X-APPLE-RADIUS=500;X-TITLE=Homestead:geo:-80.4775569,25.4687224
END:VEVENT
END:VCALENDAR