BEGIN:VCALENDAR
VERSION:2.0
PRODID:-//Gospel Echoes Team Prison Ministry - ECPv6.15.20//NONSGML v1.0//EN
CALSCALE:GREGORIAN
METHOD:PUBLISH
X-WR-CALNAME:Gospel Echoes Team Prison Ministry
X-ORIGINAL-URL:https://gospelechoes.com
X-WR-CALDESC:Events for Gospel Echoes Team Prison Ministry
REFRESH-INTERVAL;VALUE=DURATION:PT1H
X-Robots-Tag:noindex
X-PUBLISHED-TTL:PT1H
BEGIN:VTIMEZONE
TZID:America/Indiana/Indianapolis
BEGIN:DAYLIGHT
TZOFFSETFROM:-0500
TZOFFSETTO:-0400
TZNAME:EDT
DTSTART:20190310T070000
END:DAYLIGHT
BEGIN:STANDARD
TZOFFSETFROM:-0400
TZOFFSETTO:-0500
TZNAME:EST
DTSTART:20191103T060000
END:STANDARD
BEGIN:DAYLIGHT
TZOFFSETFROM:-0500
TZOFFSETTO:-0400
TZNAME:EDT
DTSTART:20200308T070000
END:DAYLIGHT
BEGIN:STANDARD
TZOFFSETFROM:-0400
TZOFFSETTO:-0500
TZNAME:EST
DTSTART:20201101T060000
END:STANDARD
BEGIN:DAYLIGHT
TZOFFSETFROM:-0500
TZOFFSETTO:-0400
TZNAME:EDT
DTSTART:20210314T070000
END:DAYLIGHT
BEGIN:STANDARD
TZOFFSETFROM:-0400
TZOFFSETTO:-0500
TZNAME:EST
DTSTART:20211107T060000
END:STANDARD
END:VTIMEZONE
BEGIN:VEVENT
DTSTART;TZID=America/Indiana/Indianapolis:20200511T183000
DTEND;TZID=America/Indiana/Indianapolis:20200511T183000
DTSTAMP:20260420T005742
CREATED:20200511T145448Z
LAST-MODIFIED:20200511T145448Z
UID:10000259-1589221800-1589221800@gospelechoes.com
SUMMARY:Belleville / Cochranton - LIVESTREAM Presentation
DESCRIPTION:Gospel Echoes Team Livestream Share-A-Thon\, Cochranton\, PA – Monday\, May 11\, 2020 6:30 PM. You are invited to join the Gospel Echoes Team prison ministry for a LIVESTREAM presentation for Cochnranton\, PA. Monday\, May 11\, 2020 6:30 PM. The presentation will include Gospel Music by the Harvest Team\, Mercy Road Team and New Life Team. Special guest speaker Jerry Detweiler will be giving testimony to his prison work as a Gospel Echoes Bible Study Grader. Jerry has graded over a 1000 Gospel Echoes Bible Study Correspondence Courses. You will be encouraged by these life changing stories. Donations can be made via website or by calling the office during the livestream. Go to gospelechoes.com click on livestream tab\, find link to your area livestream. For more information\, call 717-437-5375\, or EMAIL: info@gospelechoes.com or CALL: 574-533-0221.
URL:https://gospelechoes.com/event/belleville-cochranton-livestream-presentation/
CATEGORIES:Banquet,Harvest,Headquarters,Literature,Mercy Road,New Life Team
END:VEVENT
END:VCALENDAR