BEGIN:VCALENDAR
VERSION:2.0
PRODID:-//Gospel Echoes Team Prison Ministry - ECPv6.15.20//NONSGML v1.0//EN
CALSCALE:GREGORIAN
METHOD:PUBLISH
X-WR-CALNAME:Gospel Echoes Team Prison Ministry
X-ORIGINAL-URL:https://gospelechoes.com
X-WR-CALDESC:Events for Gospel Echoes Team Prison Ministry
REFRESH-INTERVAL;VALUE=DURATION:PT1H
X-Robots-Tag:noindex
X-PUBLISHED-TTL:PT1H
BEGIN:VTIMEZONE
TZID:America/Indiana/Indianapolis
BEGIN:DAYLIGHT
TZOFFSETFROM:-0500
TZOFFSETTO:-0400
TZNAME:EDT
DTSTART:20190310T070000
END:DAYLIGHT
BEGIN:STANDARD
TZOFFSETFROM:-0400
TZOFFSETTO:-0500
TZNAME:EST
DTSTART:20191103T060000
END:STANDARD
BEGIN:DAYLIGHT
TZOFFSETFROM:-0500
TZOFFSETTO:-0400
TZNAME:EDT
DTSTART:20200308T070000
END:DAYLIGHT
BEGIN:STANDARD
TZOFFSETFROM:-0400
TZOFFSETTO:-0500
TZNAME:EST
DTSTART:20201101T060000
END:STANDARD
BEGIN:DAYLIGHT
TZOFFSETFROM:-0500
TZOFFSETTO:-0400
TZNAME:EDT
DTSTART:20210314T070000
END:DAYLIGHT
BEGIN:STANDARD
TZOFFSETFROM:-0400
TZOFFSETTO:-0500
TZNAME:EST
DTSTART:20211107T060000
END:STANDARD
END:VTIMEZONE
BEGIN:VEVENT
DTSTART;TZID=America/Indiana/Indianapolis:20201105T183000
DTEND;TZID=America/Indiana/Indianapolis:20201105T183000
DTSTAMP:20260419T141906
CREATED:20201025T041915Z
LAST-MODIFIED:20201025T041915Z
UID:10000272-1604601000-1604601000@gospelechoes.com
SUMMARY:Southern Indiana BQT\, Odon\, IN - HT\, MRT
DESCRIPTION:The Gospel Echoes Team will hold theOr annual banquet at the Simon Graber Building\, 9164 East 875 North\, Odon\, IN\, Thursday November 5\, 2020\, 6:30 PM. The Harvest Team and Mercy Road Team will be singing and a special prison testimony will be given. Join us for this special evening.
URL:https://gospelechoes.com/event/southern-indiana-bqt-odon-in-ht-mrt/
LOCATION:Simon Graber Building\, 9164 E 875 N\, Odon\, IN\, 47562\, United States
CATEGORIES:Banquet,Harvest,Headquarters,Mercy Road
GEO:38.786107;-86.994881
X-APPLE-STRUCTURED-LOCATION;VALUE=URI;X-ADDRESS=Simon Graber Building 9164 E 875 N Odon IN 47562 United States;X-APPLE-RADIUS=500;X-TITLE=9164 E 875 N:geo:-86.994881,38.786107
END:VEVENT
END:VCALENDAR