BEGIN:VCALENDAR
VERSION:2.0
PRODID:-//Gospel Echoes Team Prison Ministry - ECPv6.15.20//NONSGML v1.0//EN
CALSCALE:GREGORIAN
METHOD:PUBLISH
X-ORIGINAL-URL:https://gospelechoes.com
X-WR-CALDESC:Events for Gospel Echoes Team Prison Ministry
REFRESH-INTERVAL;VALUE=DURATION:PT1H
X-Robots-Tag:noindex
X-PUBLISHED-TTL:PT1H
BEGIN:VTIMEZONE
TZID:America/Indiana/Indianapolis
BEGIN:DAYLIGHT
TZOFFSETFROM:-0500
TZOFFSETTO:-0400
TZNAME:EDT
DTSTART:20180311T070000
END:DAYLIGHT
BEGIN:STANDARD
TZOFFSETFROM:-0400
TZOFFSETTO:-0500
TZNAME:EST
DTSTART:20181104T060000
END:STANDARD
BEGIN:DAYLIGHT
TZOFFSETFROM:-0500
TZOFFSETTO:-0400
TZNAME:EDT
DTSTART:20190310T070000
END:DAYLIGHT
BEGIN:STANDARD
TZOFFSETFROM:-0400
TZOFFSETTO:-0500
TZNAME:EST
DTSTART:20191103T060000
END:STANDARD
BEGIN:DAYLIGHT
TZOFFSETFROM:-0500
TZOFFSETTO:-0400
TZNAME:EDT
DTSTART:20200308T070000
END:DAYLIGHT
BEGIN:STANDARD
TZOFFSETFROM:-0400
TZOFFSETTO:-0500
TZNAME:EST
DTSTART:20201101T060000
END:STANDARD
END:VTIMEZONE
BEGIN:VEVENT
DTSTART;TZID=America/Indiana/Indianapolis:20191104T183000
DTEND;TZID=America/Indiana/Indianapolis:20191104T210000
DTSTAMP:20260421T104836
CREATED:20191103T043119Z
LAST-MODIFIED:20191104T181836Z
UID:10000217-1572892200-1572901200@gospelechoes.com
SUMMARY:Lewisburg BQT\, Country Cupboard\, Lewisburg\, PA -HT\, MRT\, LP
DESCRIPTION:The Gospel Echoes Team Prison Ministry Annual Lewisburg Banquet will be held at Country Cupboard Restaurant\, 101 Hafer Rd.\, Lewisburg\, PA\, Monday\, November 4\, 2019\, 6:30 PM.  The evening will include a delicious Country Cupboard Buffet\, Gospel Music\, and guest speaker. The special guest speaker will be Jerry Detweiler\, Gospel Echoes Grader from Goshen\, IN. Jerry has been ministering to prisoners through the Bible Study Correspondence ministry for the past 15 Years. Come hear stories of the transforming power of the word in the lives of prisoners. The evening will include Gospel Music by the Harvest and Mercy Road Teams. Join the Gospel Echoes for an evening of inspiration. Banquet tickets are Adults $15.00\, Children Age 12 and under $8.00. Call Ken & Dawn Martin 570*966*0003\, or Justin & Sibohn Martin 570*966*0895. Leroy & Rachel Erb (570) 742-4325 \n 
URL:https://gospelechoes.com/event/lewisburg-bqt-country-cupboard-lewisburg-pa-ht-mrt-lp/
LOCATION:Country Cupboard Restaurant\, 101 Hafer Rd.\, Lewisburg\, PA\, 17837\, United States
CATEGORIES:Harvest,Mercy Road,New Life Team
GEO:40.9857166;-76.8820948
X-APPLE-STRUCTURED-LOCATION;VALUE=URI;X-ADDRESS=Country Cupboard Restaurant 101 Hafer Rd. Lewisburg PA 17837 United States;X-APPLE-RADIUS=500;X-TITLE=101 Hafer Rd.:geo:-76.8820948,40.9857166
END:VEVENT
END:VCALENDAR