BEGIN:VCALENDAR
VERSION:2.0
PRODID:-//Gospel Echoes Team Prison Ministry - ECPv6.15.20//NONSGML v1.0//EN
CALSCALE:GREGORIAN
METHOD:PUBLISH
X-ORIGINAL-URL:https://gospelechoes.com
X-WR-CALDESC:Events for Gospel Echoes Team Prison Ministry
REFRESH-INTERVAL;VALUE=DURATION:PT1H
X-Robots-Tag:noindex
X-PUBLISHED-TTL:PT1H
BEGIN:VTIMEZONE
TZID:America/Indiana/Indianapolis
BEGIN:DAYLIGHT
TZOFFSETFROM:-0500
TZOFFSETTO:-0400
TZNAME:EDT
DTSTART:20180311T070000
END:DAYLIGHT
BEGIN:STANDARD
TZOFFSETFROM:-0400
TZOFFSETTO:-0500
TZNAME:EST
DTSTART:20181104T060000
END:STANDARD
BEGIN:DAYLIGHT
TZOFFSETFROM:-0500
TZOFFSETTO:-0400
TZNAME:EDT
DTSTART:20190310T070000
END:DAYLIGHT
BEGIN:STANDARD
TZOFFSETFROM:-0400
TZOFFSETTO:-0500
TZNAME:EST
DTSTART:20191103T060000
END:STANDARD
BEGIN:DAYLIGHT
TZOFFSETFROM:-0500
TZOFFSETTO:-0400
TZNAME:EDT
DTSTART:20200308T070000
END:DAYLIGHT
BEGIN:STANDARD
TZOFFSETFROM:-0400
TZOFFSETTO:-0500
TZNAME:EST
DTSTART:20201101T060000
END:STANDARD
END:VTIMEZONE
BEGIN:VEVENT
DTSTART;TZID=America/Indiana/Indianapolis:20191109T040000
DTEND;TZID=America/Indiana/Indianapolis:20191109T200000
DTSTAMP:20260421T143953
CREATED:20191019T022915Z
LAST-MODIFIED:20191109T033413Z
UID:10000209-1573272000-1573329600@gospelechoes.com
SUMMARY:Gospel Echoes Festival of Praise and Fish Fry\, Goshen\, IN -HT\, MRT\, NLT\, LT
DESCRIPTION:Join the Gospel Echoes Team Prison Ministry for their Annual Festival of Praise and Fish Fry. Saturday\, November 9\, 2019 at the Auction Barn in Shipshewana\, IN.  Serving fish and chicken from 4:00 to 7:00 PM. Join Gospel Echoes Harvest Team\, Mercy Road Team and New Life Team  for a special night of music and thanksgiving. Gospel Echoes is praising God for all the blessings of the past year\, the hundreds of prison services\, 100\,000 plus Bible Studies given to prison inmates and over 100\,000 miles of safe travel\, hundreds of volunteers who have participated in the Freedom Rallies and Cookie Projects. There is so much to be thankful as we consider the many blessings has given. The fish and chicken fry is served by donations for the prison ministry. This event supports the ministries Gospel Echoes provides all across the U. S. and Canada. \n  \nFolllow the signs to get to the Fish Fry\, State Rd 5 will close north of the light at W 200 N after 5:30 PM. The map shows the route to get to the fish fry after 5:30 PM. There is special access through the private drive for those going to the Gospel Echoes Fish Fry.
URL:https://gospelechoes.com/event/gospel-echoes-festival-of-praise-and-fish-fry/
LOCATION:Antique Misc. Building\, Shipshewana\, 345 S. Van Buren St.\, Shipshewana\, IN\, 46565\, United States
CATEGORIES:Harvest,Headquarters,Literature,Mercy Road,New Life Team
GEO:41.6721858;-85.5772076
X-APPLE-STRUCTURED-LOCATION;VALUE=URI;X-ADDRESS=Antique Misc. Building Shipshewana 345 S. Van Buren St. Shipshewana IN 46565 United States;X-APPLE-RADIUS=500;X-TITLE=345 S. Van Buren St.:geo:-85.5772076,41.6721858
END:VEVENT
END:VCALENDAR