BEGIN:VCALENDAR
VERSION:2.0
PRODID:-//Gospel Echoes Team Prison Ministry - ECPv6.15.20//NONSGML v1.0//EN
CALSCALE:GREGORIAN
METHOD:PUBLISH
X-ORIGINAL-URL:https://gospelechoes.com
X-WR-CALDESC:Events for Gospel Echoes Team Prison Ministry
REFRESH-INTERVAL;VALUE=DURATION:PT1H
X-Robots-Tag:noindex
X-PUBLISHED-TTL:PT1H
BEGIN:VTIMEZONE
TZID:America/Indiana/Indianapolis
BEGIN:DAYLIGHT
TZOFFSETFROM:-0500
TZOFFSETTO:-0400
TZNAME:EDT
DTSTART:20190310T070000
END:DAYLIGHT
BEGIN:STANDARD
TZOFFSETFROM:-0400
TZOFFSETTO:-0500
TZNAME:EST
DTSTART:20191103T060000
END:STANDARD
BEGIN:DAYLIGHT
TZOFFSETFROM:-0500
TZOFFSETTO:-0400
TZNAME:EDT
DTSTART:20200308T070000
END:DAYLIGHT
BEGIN:STANDARD
TZOFFSETFROM:-0400
TZOFFSETTO:-0500
TZNAME:EST
DTSTART:20201101T060000
END:STANDARD
BEGIN:DAYLIGHT
TZOFFSETFROM:-0500
TZOFFSETTO:-0400
TZNAME:EDT
DTSTART:20210314T070000
END:DAYLIGHT
BEGIN:STANDARD
TZOFFSETFROM:-0400
TZOFFSETTO:-0500
TZNAME:EST
DTSTART:20211107T060000
END:STANDARD
END:VTIMEZONE
BEGIN:VEVENT
DTSTART;TZID=America/Indiana/Indianapolis:20201101T190000
DTEND;TZID=America/Indiana/Indianapolis:20201101T203000
DTSTAMP:20260421T084151
CREATED:20201024T032317Z
LAST-MODIFIED:20201025T040143Z
UID:10000271-1604257200-1604262600@gospelechoes.com
SUMMARY:Hinkletown Menn.\, Hinkletown\, PA - HT\, MRT
DESCRIPTION:Gospel Echoes Mercy Road and Harvest Team will be at the Hinkletown Mennonite Church Sunday\, November 1\, 2020 at 7:00 PM
URL:https://gospelechoes.com/event/hinkletown-menn-hinkletown-pa-ht-mrt/
LOCATION:Hinkletown Mennonite Church\, 2031 Division Highway\, Ephrata\, PA\, 17522\, United States
CATEGORIES:Harvest,Headquarters,Mercy Road
GEO:40.1460658;-76.1189126
X-APPLE-STRUCTURED-LOCATION;VALUE=URI;X-ADDRESS=Hinkletown Mennonite Church 2031 Division Highway Ephrata PA 17522 United States;X-APPLE-RADIUS=500;X-TITLE=2031 Division Highway:geo:-76.1189126,40.1460658
END:VEVENT
BEGIN:VEVENT
DTSTART;TZID=America/Indiana/Indianapolis:20201103T183000
DTEND;TZID=America/Indiana/Indianapolis:20201103T210000
DTSTAMP:20260421T084151
CREATED:20201024T031834Z
LAST-MODIFIED:20201024T031834Z
UID:10000270-1604428200-1604437200@gospelechoes.com
SUMMARY:Chambersburg Banquet\, PA - HT\, MRT
DESCRIPTION:Gospel Echoes will be sharing the annual Chambersburg Banquet at Chambersburg Mennonite Church\,\n1800 Philadelphia Ave. | Chambersburg\, PA on Tuesday\, November 3\, 2020 6:30 PM. Tickets are $10.00 adults and $5.00 ages 4-10. Call for tickets – Royce & Cheryl Martin | 717.530.9643 · Glenn & Fannie Kuhns | 717.263.0968 Peter & MaryAnn Zucconi | 717.532.9691 · Dan & Louann Lehman | 717.377.1579. Join us for a special evening of inspiration and challenge.
URL:https://gospelechoes.com/event/chambersburg-banquet-pa-ht-mrt/
LOCATION:Chambersburg Mennonite Church\, 1800 Philadelphia Ave\,\, Chambersburg\, PA\, 17201\, United States
CATEGORIES:Banquet,Harvest,Headquarters,Mercy Road
GEO:39.9564116;-77.6449204
X-APPLE-STRUCTURED-LOCATION;VALUE=URI;X-ADDRESS=Chambersburg Mennonite Church 1800 Philadelphia Ave Chambersburg PA 17201 United States;X-APPLE-RADIUS=500;X-TITLE=1800 Philadelphia Ave\,:geo:-77.6449204,39.9564116
END:VEVENT
BEGIN:VEVENT
DTSTART;TZID=America/Indiana/Indianapolis:20201105T183000
DTEND;TZID=America/Indiana/Indianapolis:20201105T183000
DTSTAMP:20260421T084151
CREATED:20201025T041915Z
LAST-MODIFIED:20201025T041915Z
UID:10000272-1604601000-1604601000@gospelechoes.com
SUMMARY:Southern Indiana BQT\, Odon\, IN - HT\, MRT
DESCRIPTION:The Gospel Echoes Team will hold theOr annual banquet at the Simon Graber Building\, 9164 East 875 North\, Odon\, IN\, Thursday November 5\, 2020\, 6:30 PM. The Harvest Team and Mercy Road Team will be singing and a special prison testimony will be given. Join us for this special evening.
URL:https://gospelechoes.com/event/southern-indiana-bqt-odon-in-ht-mrt/
LOCATION:Simon Graber Building\, 9164 E 875 N\, Odon\, IN\, 47562\, United States
CATEGORIES:Banquet,Harvest,Headquarters,Mercy Road
GEO:38.786107;-86.994881
X-APPLE-STRUCTURED-LOCATION;VALUE=URI;X-ADDRESS=Simon Graber Building 9164 E 875 N Odon IN 47562 United States;X-APPLE-RADIUS=500;X-TITLE=9164 E 875 N:geo:-86.994881,38.786107
END:VEVENT
BEGIN:VEVENT
DTSTART;TZID=America/Indiana/Indianapolis:20201106T183000
DTEND;TZID=America/Indiana/Indianapolis:20201106T203000
DTSTAMP:20260421T084151
CREATED:20201025T045656Z
LAST-MODIFIED:20201025T045656Z
UID:10000274-1604687400-1604694600@gospelechoes.com
SUMMARY:Arthur BQT\, Arthur\, IL - HT\, MRT
DESCRIPTION:The Gospel Echoes Team will be holding their annual Banquet at Penn Station\, Arthur\, IL Friday\, November  6\, 2020\, 6:30 PM
URL:https://gospelechoes.com/event/arthur-bqt-arthur-il-ht-mrt/
LOCATION:Penn Station – Arthur\, 122 E Progress St\,\, Arthur\, IL\, 61911\, United States
CATEGORIES:Banquet,Harvest,Headquarters,Mercy Road
GEO:39.7168723;-88.4721772
X-APPLE-STRUCTURED-LOCATION;VALUE=URI;X-ADDRESS=Penn Station – Arthur 122 E Progress St Arthur IL 61911 United States;X-APPLE-RADIUS=500;X-TITLE=122 E Progress St\,:geo:-88.4721772,39.7168723
END:VEVENT
BEGIN:VEVENT
DTSTART;TZID=America/Indiana/Indianapolis:20201107T150000
DTEND;TZID=America/Indiana/Indianapolis:20201107T180000
DTSTAMP:20260421T084151
CREATED:20201025T050519Z
LAST-MODIFIED:20201025T050519Z
UID:10000275-1604761200-1604772000@gospelechoes.com
SUMMARY:Fish & Chicken Fry\, Drive-Thru\, Shipshewana\, IN
DESCRIPTION:A Drive-Thru Fish and Chicken Fry. The food will be by donation. You can get a Fish and chicken combo or Fish Or Chicken Dinner. Dan’s Fish Fry will frying the fish. The Shipshewana Light parade has been cancelled this Year so parking and access should be well accommodated.
URL:https://gospelechoes.com/event/fish-chicken-fry-drive-thru-shipshewana-in/
LOCATION:Antique Misc. Building\, Shipshewana\, 345 S. Van Buren St.\, Shipshewana\, IN\, 46565\, United States
CATEGORIES:Harvest,Headquarters,Mercy Road
GEO:41.6721858;-85.5772076
X-APPLE-STRUCTURED-LOCATION;VALUE=URI;X-ADDRESS=Antique Misc. Building Shipshewana 345 S. Van Buren St. Shipshewana IN 46565 United States;X-APPLE-RADIUS=500;X-TITLE=345 S. Van Buren St.:geo:-85.5772076,41.6721858
END:VEVENT
END:VCALENDAR