BEGIN:VCALENDAR
VERSION:2.0
PRODID:-//Gospel Echoes Team Prison Ministry - ECPv6.15.20//NONSGML v1.0//EN
CALSCALE:GREGORIAN
METHOD:PUBLISH
X-WR-CALNAME:Gospel Echoes Team Prison Ministry
X-ORIGINAL-URL:https://gospelechoes.com
X-WR-CALDESC:Events for Gospel Echoes Team Prison Ministry
REFRESH-INTERVAL;VALUE=DURATION:PT1H
X-Robots-Tag:noindex
X-PUBLISHED-TTL:PT1H
BEGIN:VTIMEZONE
TZID:America/Indiana/Indianapolis
BEGIN:DAYLIGHT
TZOFFSETFROM:-0500
TZOFFSETTO:-0400
TZNAME:EDT
DTSTART:20180311T070000
END:DAYLIGHT
BEGIN:STANDARD
TZOFFSETFROM:-0400
TZOFFSETTO:-0500
TZNAME:EST
DTSTART:20181104T060000
END:STANDARD
BEGIN:DAYLIGHT
TZOFFSETFROM:-0500
TZOFFSETTO:-0400
TZNAME:EDT
DTSTART:20190310T070000
END:DAYLIGHT
BEGIN:STANDARD
TZOFFSETFROM:-0400
TZOFFSETTO:-0500
TZNAME:EST
DTSTART:20191103T060000
END:STANDARD
BEGIN:DAYLIGHT
TZOFFSETFROM:-0500
TZOFFSETTO:-0400
TZNAME:EDT
DTSTART:20200308T070000
END:DAYLIGHT
BEGIN:STANDARD
TZOFFSETFROM:-0400
TZOFFSETTO:-0500
TZNAME:EST
DTSTART:20201101T060000
END:STANDARD
END:VTIMEZONE
BEGIN:VEVENT
DTSTART;TZID=America/Indiana/Indianapolis:20190607T000000
DTEND;TZID=America/Indiana/Indianapolis:20190607T000000
DTSTAMP:20260421T075707
CREATED:20190529T114626Z
LAST-MODIFIED:20190529T114845Z
UID:10000177-1559865600-1559865600@gospelechoes.com
SUMMARY:SCI Laurel Highlands - MRT
DESCRIPTION:
URL:https://gospelechoes.com/event/sci-laurel-highlands-mrt/
LOCATION:SCI Laurel Highlands\, Somerset\, PA\, United States
CATEGORIES:Mercy Road
GEO:40.008411;-79.0780831
END:VEVENT
BEGIN:VEVENT
DTSTART;TZID=America/Indiana/Indianapolis:20190609T093000
DTEND;TZID=America/Indiana/Indianapolis:20190609T093000
DTSTAMP:20260421T075707
CREATED:20190529T122918Z
LAST-MODIFIED:20190529T122918Z
UID:10000191-1560072600-1560072600@gospelechoes.com
SUMMARY:Derry Mennonite Church - JE
DESCRIPTION:
URL:https://gospelechoes.com/event/derry-mennonite-church-je/
LOCATION:Derry Mennonite Church\, 520 Preserve Rd\, Danville\, PA\, 17821\, United States
CATEGORIES:Literature
GEO:41.0973097;-76.6306247
X-APPLE-STRUCTURED-LOCATION;VALUE=URI;X-ADDRESS=Derry Mennonite Church 520 Preserve Rd Danville PA 17821 United States;X-APPLE-RADIUS=500;X-TITLE=520 Preserve Rd:geo:-76.6306247,41.0973097
END:VEVENT
BEGIN:VEVENT
DTSTART;TZID=America/Indiana/Indianapolis:20190609T093000
DTEND;TZID=America/Indiana/Indianapolis:20190609T093000
DTSTAMP:20260421T075707
CREATED:20190529T115106Z
LAST-MODIFIED:20190529T115511Z
UID:10000178-1560072600-1560072600@gospelechoes.com
SUMMARY:Bethesda Christian Fellowship -  MRT
DESCRIPTION:
URL:https://gospelechoes.com/event/bethesda-christian-fellowship-mrt/
LOCATION:Bethesda Christian Fellowship\, 272 Wanner Rd\, Ephrata\, PA\, 17522\, United States
CATEGORIES:Mercy Road
GEO:40.1456443;-76.106716
X-APPLE-STRUCTURED-LOCATION;VALUE=URI;X-ADDRESS=Bethesda Christian Fellowship 272 Wanner Rd Ephrata PA 17522 United States;X-APPLE-RADIUS=500;X-TITLE=272 Wanner Rd:geo:-76.106716,40.1456443
END:VEVENT
BEGIN:VEVENT
DTSTART;TZID=America/Indiana/Indianapolis:20190610T000000
DTEND;TZID=America/Indiana/Indianapolis:20190610T000000
DTSTAMP:20260421T075707
CREATED:20190529T115740Z
LAST-MODIFIED:20190529T115740Z
UID:10000179-1560124800-1560124800@gospelechoes.com
SUMMARY:SCI Smithfield - MRT
DESCRIPTION:
URL:https://gospelechoes.com/event/sci-smithfield-mrt/
LOCATION:SCI Smithfield\, Huntingdon\, PA\, United States
CATEGORIES:Literature,Mercy Road
GEO:40.4847959;-78.0102813
END:VEVENT
BEGIN:VEVENT
DTSTART;TZID=America/Indiana/Indianapolis:20190611T000000
DTEND;TZID=America/Indiana/Indianapolis:20190611T000000
DTSTAMP:20260421T075707
CREATED:20190529T115950Z
LAST-MODIFIED:20190529T115950Z
UID:10000180-1560211200-1560211200@gospelechoes.com
SUMMARY:SCI Benner Township - MRT
DESCRIPTION:
URL:https://gospelechoes.com/event/sci-benner-township-mrt/
LOCATION:SCI Benner Township\, Bellefonte\, PA\, United States
CATEGORIES:Literature,Mercy Road
GEO:40.9133943;-77.7783348
END:VEVENT
BEGIN:VEVENT
DTSTART;TZID=America/Indiana/Indianapolis:20190613T000000
DTEND;TZID=America/Indiana/Indianapolis:20190613T000000
DTSTAMP:20260421T075707
CREATED:20190529T120123Z
LAST-MODIFIED:20190529T120123Z
UID:10000181-1560384000-1560384000@gospelechoes.com
SUMMARY:SCI Huntingdon - MRT
DESCRIPTION:
URL:https://gospelechoes.com/event/sci-huntingdon-mrt/
LOCATION:SCI Huntingdon\, Huntingdon\, PA\, United States
CATEGORIES:Literature,Mercy Road
GEO:40.4847959;-78.0102813
END:VEVENT
BEGIN:VEVENT
DTSTART;TZID=America/Indiana/Indianapolis:20190614T153000
DTEND;TZID=America/Indiana/Indianapolis:20190614T193000
DTSTAMP:20260421T075707
CREATED:20190601T214009Z
LAST-MODIFIED:20190601T214009Z
UID:10000194-1560526200-1560540600@gospelechoes.com
SUMMARY:Pulled Pork/Breaded Tenderloin Fundraiser - Kokomo\, IN - HT\,
DESCRIPTION:Fundraiser\, All You Can Eat!! Pulled Pork\, Breaded Tenderloin Supper will be served Friday\, June 14\, 2019 from 3:30 PM to 7:30 PM at the Bethany Fellowship School\, 5169 N 600 E\, Kokomo\, IN 46901. All proceeds go to buy food for the Gospel Echoes Freedom Rally Cookouts inside prison walls. Come enjoy great food\, good fun  and wonderful fellowship. Your contribution will make an impact that lasts through all eternity\, seeing souls saved\, and saints encouraged through the prison ministry. More info at email: info@gospelechoes.com.
URL:https://gospelechoes.com/event/pulled-pork-breaded-tenderloin-fundraiser-kokomo-in-ht/
LOCATION:Bethany Fellowship School\, 5169 N. 600 East\, Kokomo\, IN\, United States
CATEGORIES:Harvest,Headquarters
GEO:40.5636037;-86.0273704
X-APPLE-STRUCTURED-LOCATION;VALUE=URI;X-ADDRESS=Bethany Fellowship School 5169 N. 600 East Kokomo IN United States;X-APPLE-RADIUS=500;X-TITLE=5169 N. 600 East:geo:-86.0273704,40.5636037
END:VEVENT
BEGIN:VEVENT
DTSTART;TZID=America/Indiana/Indianapolis:20190616T093000
DTEND;TZID=America/Indiana/Indianapolis:20190616T093000
DTSTAMP:20260421T075707
CREATED:20190529T123418Z
LAST-MODIFIED:20190529T123418Z
UID:10000192-1560677400-1560677400@gospelechoes.com
SUMMARY:Upton Brethren Church - JE
DESCRIPTION:
URL:https://gospelechoes.com/event/upton-brethren-church-je/
LOCATION:Upton Brethren Church\, 8490 Warm Spring Rd\, Greencastle\, PA\, 17225\, United States
CATEGORIES:Literature
GEO:39.8131308;-77.8118634
X-APPLE-STRUCTURED-LOCATION;VALUE=URI;X-ADDRESS=Upton Brethren Church 8490 Warm Spring Rd Greencastle PA 17225 United States;X-APPLE-RADIUS=500;X-TITLE=8490 Warm Spring Rd:geo:-77.8118634,39.8131308
END:VEVENT
BEGIN:VEVENT
DTSTART;TZID=America/Indiana/Indianapolis:20190616T100000
DTEND;TZID=America/Indiana/Indianapolis:20190616T230000
DTSTAMP:20260421T075707
CREATED:20190529T120452Z
LAST-MODIFIED:20190529T120452Z
UID:10000182-1560679200-1560726000@gospelechoes.com
SUMMARY:Hammer Creek Mennonite Church - MRT
DESCRIPTION:
URL:https://gospelechoes.com/event/hammer-creek-mennonite-church-mrt/
LOCATION:Hammer Creek Mennonite Church\, 590 Hammer Creek Road\, Lititz\, PA\, 17543\, United States
CATEGORIES:Mercy Road
GEO:40.203822;-76.267704
X-APPLE-STRUCTURED-LOCATION;VALUE=URI;X-ADDRESS=Hammer Creek Mennonite Church 590 Hammer Creek Road Lititz PA 17543 United States;X-APPLE-RADIUS=500;X-TITLE=590 Hammer Creek Road:geo:-76.267704,40.203822
END:VEVENT
BEGIN:VEVENT
DTSTART;TZID=America/Indiana/Indianapolis:20190617T000000
DTEND;TZID=America/Indiana/Indianapolis:20190617T000000
DTSTAMP:20260421T075707
CREATED:20190529T120659Z
LAST-MODIFIED:20190529T120659Z
UID:10000183-1560729600-1560729600@gospelechoes.com
SUMMARY:SCI Mahanoy - MRT
DESCRIPTION:
URL:https://gospelechoes.com/event/sci-mahanoy-mrt/
LOCATION:SCI Mahanoy\, Frackville\, PA\, United States
CATEGORIES:Mercy Road
GEO:40.7839774;-76.2302211
END:VEVENT
BEGIN:VEVENT
DTSTART;TZID=America/Indiana/Indianapolis:20190618T000000
DTEND;TZID=America/Indiana/Indianapolis:20190618T000000
DTSTAMP:20260421T075707
CREATED:20190529T120820Z
LAST-MODIFIED:20190529T120820Z
UID:10000184-1560816000-1560816000@gospelechoes.com
SUMMARY:SCI Fackville - MRT
DESCRIPTION:
URL:https://gospelechoes.com/event/sci-fackville-mrt/
LOCATION:SCI Frackville\, Frackville\, PA\, United States
CATEGORIES:Mercy Road
GEO:40.7839774;-76.2302211
END:VEVENT
BEGIN:VEVENT
DTSTART;TZID=America/Indiana/Indianapolis:20190619T000000
DTEND;TZID=America/Indiana/Indianapolis:20190619T000000
DTSTAMP:20260421T075707
CREATED:20190529T121010Z
LAST-MODIFIED:20190529T121010Z
UID:10000185-1560902400-1560902400@gospelechoes.com
SUMMARY:SCI Phoenix - MRT
DESCRIPTION:
URL:https://gospelechoes.com/event/sci-phoenix-mrt/
LOCATION:SCI Phoenix\, Collegeville\, PA\, United States
CATEGORIES:Mercy Road
GEO:40.1856597;-75.451571
END:VEVENT
BEGIN:VEVENT
DTSTART;TZID=America/Indiana/Indianapolis:20190622T080000
DTEND;TZID=America/Indiana/Indianapolis:20190622T223000
DTSTAMP:20260421T075707
CREATED:20190529T160940Z
LAST-MODIFIED:20190529T160940Z
UID:10000193-1561190400-1561242600@gospelechoes.com
SUMMARY:GET HITTIN' Softball Tournament\, Topeka\, IN - HT\, LP\, NLT
DESCRIPTION:GET HITTIN Softball Tournament is rescheduled for the weekend of June 22\, 2019 at Topeka Park\, Topeka\, IN. Register by calling Call Jud Schrock\, (260) 350-3939\, judschrock92@gmail.com\, or Glendon Bender\, (574) 238-0485\, P.O. Box 555\, Goshen\, IN 46527\, gbender@gospelechoes.com
URL:https://gospelechoes.com/event/get-hittin-softball-tournament-topeka-in-ht-lp-nlt/
LOCATION:Topeka Park\, Topeka\, IN\, 505 East Lake St.\, Topeka\, IN\, United States
CATEGORIES:Harvest,Headquarters,Literature,New Life Team
GEO:41.5394124;-85.5355034
X-APPLE-STRUCTURED-LOCATION;VALUE=URI;X-ADDRESS=Topeka Park Topeka IN 505 East Lake St. Topeka IN United States;X-APPLE-RADIUS=500;X-TITLE=505 East Lake St.:geo:-85.5355034,41.5394124
END:VEVENT
BEGIN:VEVENT
DTSTART;TZID=America/Indiana/Indianapolis:20190623T100000
DTEND;TZID=America/Indiana/Indianapolis:20190623T100000
DTSTAMP:20260421T075707
CREATED:20190529T121320Z
LAST-MODIFIED:20190529T121320Z
UID:10000186-1561284000-1561284000@gospelechoes.com
SUMMARY:Stony Brook Mennonite Church - MRT
DESCRIPTION:
URL:https://gospelechoes.com/event/stony-brook-mennonite-church-mrt/
LOCATION:Stony Brook Mennonite Church\, 15 Locust Grove Rd\, York\, PA\, United States
CATEGORIES:Mercy Road
GEO:39.9839797;-76.6474531
X-APPLE-STRUCTURED-LOCATION;VALUE=URI;X-ADDRESS=Stony Brook Mennonite Church 15 Locust Grove Rd York PA United States;X-APPLE-RADIUS=500;X-TITLE=15 Locust Grove Rd:geo:-76.6474531,39.9839797
END:VEVENT
BEGIN:VEVENT
DTSTART;TZID=America/Indiana/Indianapolis:20190623T180000
DTEND;TZID=America/Indiana/Indianapolis:20190623T180000
DTSTAMP:20260421T075707
CREATED:20190529T121614Z
LAST-MODIFIED:20190529T121614Z
UID:10000187-1561312800-1561312800@gospelechoes.com
SUMMARY:Loganton Wesleyan Church - MRT
DESCRIPTION:
URL:https://gospelechoes.com/event/loganton-wesleyan-church-mrt/
LOCATION:Loganton Wesleyan Church\, 4972 Long Run Rd\, Loganton\, PA\, 17747\, United States
CATEGORIES:Mercy Road
GEO:41.0556847;-77.3114645
X-APPLE-STRUCTURED-LOCATION;VALUE=URI;X-ADDRESS=Loganton Wesleyan Church 4972 Long Run Rd Loganton PA 17747 United States;X-APPLE-RADIUS=500;X-TITLE=4972 Long Run Rd:geo:-77.3114645,41.0556847
END:VEVENT
END:VCALENDAR