BEGIN:VCALENDAR
VERSION:2.0
PRODID:-//Gospel Echoes Team Prison Ministry - ECPv6.15.20//NONSGML v1.0//EN
CALSCALE:GREGORIAN
METHOD:PUBLISH
X-WR-CALNAME:Gospel Echoes Team Prison Ministry
X-ORIGINAL-URL:https://gospelechoes.com
X-WR-CALDESC:Events for Gospel Echoes Team Prison Ministry
REFRESH-INTERVAL;VALUE=DURATION:PT1H
X-Robots-Tag:noindex
X-PUBLISHED-TTL:PT1H
BEGIN:VTIMEZONE
TZID:America/Indiana/Indianapolis
BEGIN:DAYLIGHT
TZOFFSETFROM:-0500
TZOFFSETTO:-0400
TZNAME:EDT
DTSTART:20180311T070000
END:DAYLIGHT
BEGIN:STANDARD
TZOFFSETFROM:-0400
TZOFFSETTO:-0500
TZNAME:EST
DTSTART:20181104T060000
END:STANDARD
BEGIN:DAYLIGHT
TZOFFSETFROM:-0500
TZOFFSETTO:-0400
TZNAME:EDT
DTSTART:20190310T070000
END:DAYLIGHT
BEGIN:STANDARD
TZOFFSETFROM:-0400
TZOFFSETTO:-0500
TZNAME:EST
DTSTART:20191103T060000
END:STANDARD
BEGIN:DAYLIGHT
TZOFFSETFROM:-0500
TZOFFSETTO:-0400
TZNAME:EDT
DTSTART:20200308T070000
END:DAYLIGHT
BEGIN:STANDARD
TZOFFSETFROM:-0400
TZOFFSETTO:-0500
TZNAME:EST
DTSTART:20201101T060000
END:STANDARD
END:VTIMEZONE
BEGIN:VEVENT
DTSTART;TZID=America/Indiana/Indianapolis:20190713T160000
DTEND;TZID=America/Indiana/Indianapolis:20190713T203000
DTSTAMP:20260421T044616
CREATED:20190601T220409Z
LAST-MODIFIED:20190702T013738Z
UID:10000195-1563033600-1563049800@gospelechoes.com
SUMMARY:All Team Sing and BBQ\, Goshen\, IN - HT\, MRT\, NLT\, JE\, CRT\, CWT\, CCT
DESCRIPTION:Gospel Echoes Teams in concert include the Goshen Teams\, Harvest Team\, Mercy Road Team\, New Life Team\, Crossroads Team of Tangent\, OR\, Cross Connection Team of Millbank\, ON\, Canada West Team of Warman\, Saskatchewan. The concert is July 13\, 2019\, 4:00 PM with a BBQ “Dinner on the Grounds” at 5:30 PM. Enjoy delicious Barbecued Chicken with friends and family. Then sit back for more music at 6:30 PM.Location for the even is Maple City Chapel\, 2015 Lincolnway East\, Goshen\, IN. 46526. More info\, contact Kathy Yoder 574-533-0221 or email us at info@gospelechoes.com. Dinner is by donation and a free will offering will be received for the ministry. This is a great opportunity to get a sample of each of the Gospel Echoes Music Teams in one day. Come enjoy music with an encouraging message of hope and blessing. Gospel Echoes provides Bible Study Courses free to prison inmates. Along with the music and literature Gospel Echoes conducts in prison Freedom Rallies\, Cookie Projects and other events that are reaching prison inmates with the good news of Jesus.
URL:https://gospelechoes.com/event/all-team-sing-and-bbq-goshen-in-ht-mrt-nlt-je-crt-cwt-cct/
LOCATION:Maple City Chapel\, 2015 Lincolnway East\,\, Goshen\, IN\, 46528\, United States
CATEGORIES:Canada East,Canada West,Cross Connection,Crossroads,Harvest,Headquarters,Literature,Mercy Road,New Life Team,Northwest
GEO:41.5916411;-85.8082785
X-APPLE-STRUCTURED-LOCATION;VALUE=URI;X-ADDRESS=Maple City Chapel 2015 Lincolnway East Goshen IN 46528 United States;X-APPLE-RADIUS=500;X-TITLE=2015 Lincolnway East\,:geo:-85.8082785,41.5916411
END:VEVENT
BEGIN:VEVENT
DTSTART;TZID=America/Indiana/Indianapolis:20190810T070000
DTEND;TZID=America/Indiana/Indianapolis:20190810T160000
DTSTAMP:20260421T044616
CREATED:20190801T225237Z
LAST-MODIFIED:20190801T230716Z
UID:10000200-1565420400-1565452800@gospelechoes.com
SUMMARY:Indiana State Prison Freedom Rally\, Michigan City\, IN - HT\, MRT\, LT\, NLT\,
DESCRIPTION:Freedom Rally to conducted at the Indiana State Prison\, Michigan City\, IN Saturday\, August 10\, 2019.  Please be in prayer for these special meetings. Our Rally theme this year is “Finishing Strong”. II  Timothy 4:7 I have fought the good fight\, I have finished the race\, I have kept the faith.
URL:https://gospelechoes.com/event/indiana-state-prison-freedom-rally-ht-mrt-lt-nlt/
LOCATION:Indiana State Prison\, Michigan City\, IN\, United States
CATEGORIES:Harvest,Headquarters,Literature,Mercy Road,New Life Team
GEO:41.7075394;-86.8950297
END:VEVENT
BEGIN:VEVENT
DTSTART;VALUE=DATE:20190816
DTEND;VALUE=DATE:20190818
DTSTAMP:20260421T044616
CREATED:20190801T225729Z
LAST-MODIFIED:20190801T225729Z
UID:10000201-1565913600-1566086399@gospelechoes.com
SUMMARY:Miami Corr. Facility\, Bunker Hill\, IN - HT\, MRT\, NLT\, LT
DESCRIPTION:Freedom Rally to conducted at the Miami Correctional Facility\, Bunker Hill\, IN Friday and Saturday\, August 16 & 17\, 2019.  Please be in prayer for these special meetings. Our Rally theme this year is “Finishing Strong”. II  Timothy 4:7 I have fought the good fight\, I have finished the race\, I have kept the faith.
URL:https://gospelechoes.com/event/miami-corr-facility-bunker-hill-in-ht-mrt-nlt-lt/
LOCATION:Miami Correctional Facility\, Bunker Hill\, IN\, United States
CATEGORIES:Harvest,Headquarters,Literature,Mercy Road,New Life Team
GEO:40.6603181;-86.1027701
END:VEVENT
BEGIN:VEVENT
DTSTART;TZID=America/Indiana/Indianapolis:20190818T101500
DTEND;TZID=America/Indiana/Indianapolis:20190818T120000
DTSTAMP:20260421T044616
CREATED:20190815T042944Z
LAST-MODIFIED:20190817T032954Z
UID:10000203-1566123300-1566129600@gospelechoes.com
SUMMARY:Radiant LIfe Church\, Kokomo\, IN- HT
DESCRIPTION:The Harvest Team will be in concert at the Radiant Life Church\, 1602 E.Gano ST\, Kokomo\, IN Sunday\, August 18\, 2019\, 10:15 AM
URL:https://gospelechoes.com/event/radiant-life-church-kokomo-in-ht/
LOCATION:Radiant Life CHurch\, 1602 E. Gano PO Box 2185 Kokomo\, IN 46904-2185\, Kokomo\, IN\, IN\, United States
CATEGORIES:Harvest
GEO:40.5098684;-86.1119561
X-APPLE-STRUCTURED-LOCATION;VALUE=URI;X-ADDRESS=Radiant Life CHurch 1602 E. Gano PO Box 2185 Kokomo IN 46904-2185 Kokomo IN IN United States;X-APPLE-RADIUS=500;X-TITLE=1602 E. Gano PO Box 2185 Kokomo\, IN 46904-2185:geo:-86.1119561,40.5098684
END:VEVENT
BEGIN:VEVENT
DTSTART;VALUE=DATE:20190824
DTEND;VALUE=DATE:20190825
DTSTAMP:20260421T044616
CREATED:20190801T231036Z
LAST-MODIFIED:20190801T231036Z
UID:10000202-1566604800-1566691199@gospelechoes.com
SUMMARY:Putnamville Corr. Facility Freedom Rally\, Putnamville\, IN - HT\, MRT\, LT\, Klassen
DESCRIPTION:Freedom Rally to conducted at the Putnamville Corr. Facility\, Putnamville\, IN Saturday\, August 24\, 2019.  Please be in prayer for these special meetings. Our Rally theme this year is “Finishing Strong”. II  Timothy 4:7 I have fought the good fight\, I have finished the race\, I have kept the faith.
URL:https://gospelechoes.com/event/putnamville-corr-facility-freedom-rally-putnamville-in-ht-mrt-lt-klassen/
LOCATION:Putnamville Correctional Facility\, Putnamville\, IN\, United States
CATEGORIES:Harvest,Headquarters,Literature,Mercy Road
GEO:39.5742119;-86.8652874
END:VEVENT
BEGIN:VEVENT
DTSTART;TZID=America/Indiana/Indianapolis:20190825T090000
DTEND;TZID=America/Indiana/Indianapolis:20190825T110000
DTSTAMP:20260421T044616
CREATED:20190801T224339Z
LAST-MODIFIED:20190801T225958Z
UID:10000199-1566723600-1566730800@gospelechoes.com
SUMMARY:Berea Mennonite Church\, Cannelburg\, IN - HT\, Klassen
DESCRIPTION:The Gospel Echoes Harvest Team Along with special guests Eduard and Christine Klassen will be ministering in song and word at the Berea Mennonite Church\,  Berea Mennonite 216 Main St. Cannelburg\, IN 47519 on\, August 25\, 2019\, 9:00 AM. \nThe Gospel Echoes Harvest Team is in full time prison ministry\, traveling to churches and prisons throughout the U.S. and Canada. He and his wife Lorna have served as team directors since 1980. The team has ministered in over 500 prisons. Glendon and Lorna also direct the Gospel Echoes Freedom Rallies and Cookie Projects. The Harvest Team also includes Kristi Bender. The Harvest Team services/Concerts include music\, preaching\, teaching and testimonies. Gospel Echoes Team also provides a Bible Study Correspondence Course and other literature free to prisoners.  A network of over 700 volunteer graders mark the Bible Courses and give encouragement to prison inmates through the correspondence courses. The ministry is supported by freewill offerings and provides literature and ministry teams to prisons and chaplains throughout the U.S. free of charge!  \nEduard Klassen harpist\, speaker\, and folk artist with his beautiful Christian Instrumental Music\, was born and raised in Paraguay\, South America. Playing the harp has been his passion since a young age. His wife\, Christine\, has recently started accompanying him on the keyboard. Their tours have taken them to over 32 countries where they have performed over 4500 concerts. They have inspired people through their music in churches\, schools\, colleges\, concert halls and on radio and television programs. A typical concert presentation by Eduard and Christine Klassen features a variety of Christian harp music from South America\, North America and Europe\, interspersed with personal testimony and stories of God‘s work in his life\, from boyhood in the wilderness of Paraguay\, to the present. Eduard‘s natural sense of humor helps him to develop an excellent rapport with audiences wherever he goes.
URL:https://gospelechoes.com/event/berea-mennonite-church-ht-klassen/
LOCATION:Berea Mennonite\, 216 Main St.\, Cannelburg\, IN\, 47519\, United States
CATEGORIES:Harvest
GEO:38.6657439;-86.99911
X-APPLE-STRUCTURED-LOCATION;VALUE=URI;X-ADDRESS=Berea Mennonite 216 Main St. Cannelburg IN 47519 United States;X-APPLE-RADIUS=500;X-TITLE=216 Main St.:geo:-86.99911,38.6657439
END:VEVENT
BEGIN:VEVENT
DTSTART;TZID=America/Indiana/Indianapolis:20190825T090000
DTEND;TZID=America/Indiana/Indianapolis:20190825T120000
DTSTAMP:20260421T044616
CREATED:20190815T044715Z
LAST-MODIFIED:20190815T044715Z
UID:10000204-1566723600-1566734400@gospelechoes.com
SUMMARY:Berea Mennonite Church\, Cannelburg\, IN-HT\, Klassen
DESCRIPTION:Gospel Echoes Harvest Team will be in concert along with special guest Harpist Ed Klassen and his wife Christine at the Berea Mennonite Church\, 216 South Main St. Sunday\, August 25\, 2019\, 9:00 AM \n  \n 
URL:https://gospelechoes.com/event/berea-mennonite-church-cannelburg-in-ht-klassen/
LOCATION:Berea Mennonite\, 216 Main St.\, Cannelburg\, IN\, 47519\, United States
CATEGORIES:Harvest
GEO:38.6657439;-86.99911
X-APPLE-STRUCTURED-LOCATION;VALUE=URI;X-ADDRESS=Berea Mennonite 216 Main St. Cannelburg IN 47519 United States;X-APPLE-RADIUS=500;X-TITLE=216 Main St.:geo:-86.99911,38.6657439
END:VEVENT
BEGIN:VEVENT
DTSTART;TZID=America/Indiana/Indianapolis:20190825T180000
DTEND;TZID=America/Indiana/Indianapolis:20190825T200000
DTSTAMP:20260421T044616
CREATED:20190730T092216Z
LAST-MODIFIED:20190801T225857Z
UID:10000198-1566756000-1566763200@gospelechoes.com
SUMMARY:Gospel Echoes Community Sing- Montgomery\, IN HT\, MRT & Klassen
DESCRIPTION:The Gospel Echoes Harvest and Mercy Road Teams\, along with special guests Eduard and Christine Klassen\, will be in concert at the Pleasantview Mennonite Church\, 6289 East 200 North\, Montgomery\, IN 47558\, Sunday\, August 25\, 2019\, 6:00 PM. The Gospel Echoes are in full- time prison ministry\, traveling to churches and prisons throughout the U.S. and Canada.  \nEduard Klassen harpist\, speaker\, and folk artist with his beautiful Christian Instrumental Music\, was born and raised in Paraguay\, South America. Playing the harp has been his passion since a young age. His wife\, Christine\, has recently started accompanying him on the keyboard. Their tours have taken them to over 32 countries where they have performed over 4500 concerts. They have inspired people through their music in churches\, schools\, colleges\, concert halls and on radio and television programs. A typical concert presentation by Eduard and Christine Klassen features a variety of Christian harp music from South America\, North America and Europe\, interspersed with personal testimony and stories of God‘s work in his life\, from boyhood in the wilderness of Paraguay\, to the present. Eduard‘s natural sense of humor helps him to develop an excellent rapport with audiences wherever he goes.  \nGospel Echoes Teams have ministered in over 500 prisons and also provide a Bible Study Correspondence Course and other literature free to prisoners.  A network of over 700 volunteer graders mark the Bible Courses and give encouragement to prison inmates through the correspondence courses. The ministry also conducts “Freedom Rallies” and “Cookie Projects.” Gospel Echoes is supported by freewill offerings. The Gospel Echoes Team\, Inc. headquarters is in Goshen\, Indiana with three regional offices located in Tangent\, OR\, Milbank\, ON\, and Saskatoon\, SK. There are currently six teams who travel to over 500 prisons and churches every year\, ministering through singing\, preaching\, seminars\, Freedom Rallies\, Cookie Projects\, and other special events. In addition to the ministry teams\, they have an extensive network of volunteers and a printing department which prints the Bible Study Correspondence Courses and Scripture Address booklets. These materials are provided free of charge to prison chaplains and inmates throughout the U.S. and Canada. Gospel Echoes also has a New Testament distribution program.  Gospel Echoes began in 1969 and provides ministry outreach to over 700 prisons. More information 574+238+0485 \nDon’t miss this special evening of music.
URL:https://gospelechoes.com/event/gospel-echoes-community-sing/
LOCATION:Pleasant View Mennonite Church\, 6289 E 200 N\, Montgomery\, IN\, 47558\, United States
CATEGORIES:Harvest,Headquarters,Literature,Mercy Road
GEO:38.683297;-87.049954
X-APPLE-STRUCTURED-LOCATION;VALUE=URI;X-ADDRESS=Pleasant View Mennonite Church 6289 E 200 N Montgomery IN 47558 United States;X-APPLE-RADIUS=500;X-TITLE=6289 E 200 N:geo:-87.049954,38.683297
END:VEVENT
END:VCALENDAR